BEGIN:VCALENDAR
VERSION:2.0
PRODID:-//Webseite des SC Mitterfecking. Alles rund um die Abteilungen Fussball, Kraftsport, Tanzen, Tischtennis, Gymnastik, Beachvolleyball//NONSGML kigkonsult.se iCalcreator 2.41.92//
CALSCALE:GREGORIAN
METHOD:PUBLISH
UID:30366133-6537-4139-a239-343333633633
X-WR-CALNAME:iCagenda
X-WR-CALDESC:Event Management Extension for Joomla!
X-WR-RELCALID:3E26604A-50F4-4449-8B3E-E4F4932D05B5
X-WR-TIMEZONE:Europe/Berlin
BEGIN:VTIMEZONE
TZID:Europe/Berlin
TZUNTIL:20261025T010000Z
BEGIN:STANDARD
TZNAME:CET
DTSTART:20241027T030000
TZOFFSETFROM:+0200
TZOFFSETTO:+0100
RDATE:20251026T030000
END:STANDARD
BEGIN:DAYLIGHT
TZNAME:CEST
DTSTART:20250330T020000
TZOFFSETFROM:+0100
TZOFFSETTO:+0200
RDATE:20260329T020000
END:DAYLIGHT
END:VTIMEZONE
BEGIN:VEVENT
UID:61303039-6463-4462-b335-663964643837
DTSTAMP:20260424T130855Z
CATEGORIES:Fussball
CLASS:PUBLIC
DESCRIPTION:
DTSTART:20250419T120000Z
DTEND:20250419T120000Z
GEO:00;0
LOCATION:
ORGANIZER:
SEQUENCE:1
SUMMARY:SCM I - SpVgg Weltenburg I
TRANSP:OPAQUE
URL:https://sc-mitterfecking.de/index.php/sc-mitterfecking-termine/408-scm-
 i-spvgg-weltenburg-i-2/2025-04-19-14-00
END:VEVENT
END:VCALENDAR
